BEGIN:VCALENDAR
VERSION:2.0
PRODID:-//hacksw/handcal//NONSGML v1.0//EN
BEGIN:VEVENT
SUMMARY:U18+ - GPR Qualif Coupe Fd - GUC - U18+ Prapoutel - GS
UID:04262eda-7d5a-421d-92f7-148de768db2d
DTSTART:20260301T070000Z
DTEND:20260301T150000Z
LOCATION:Localisation 16:00  
CATEGORIES:Sportif
STATUS:
URL;VALUE=URI:https://www.co7laux-alpin.com/evenements/2026/03/01/u18-gpr-qualif-coupe-fd-guc-u18-prapoutel-gs-2360499
END:VEVENT
END:VCALENDAR
