BEGIN:VCALENDAR
VERSION:2.0
PRODID:-//hacksw/handcal//NONSGML v1.0//EN
BEGIN:VEVENT
SUMMARY:Entrainement Samedi U8-U10
UID:0ed7e4b5-780b-4c81-aa2a-77b12ec127b0
DTSTART:20260228T124500Z
DTEND:20260228T154500Z
LOCATION:Localisation Prapoutel  
CATEGORIES:Sportif
STATUS:
DESCRIPTION:<p>U6 a U10: GS Soleil</p>
 
 <p>U12: pas entrainement
 (course ouverte a tous)</p>
URL;VALUE=URI:https://www.co7laux-alpin.com/evenements/2026/02/28/entrainement-samedi-u8-u10-2333925
END:VEVENT
END:VCALENDAR
