BEGIN:VCALENDAR
VERSION:2.0
PRODID:-//hacksw/handcal//NONSGML v1.0//EN
BEGIN:VEVENT
SUMMARY:Entrainement Samedi U14-U18+
UID:3887064e-8d13-4a4b-b7a0-8bfc3ccecfbb
DTSTART:20260228T080000Z
DTEND:20260228T110000Z
LOCATION:Localisation Prapoutel  
CATEGORIES:Sportif
STATUS:
DESCRIPTION:<p>U14: GS Soleil</p>
 
 <p>U18+: SL Lac</p>
URL;VALUE=URI:https://www.co7laux-alpin.com/evenements/2026/02/28/entrainement-samedi-u14-u18-2333913
END:VEVENT
END:VCALENDAR
