BEGIN:VCALENDAR
VERSION:2.0
PRODID:-//hacksw/handcal//NONSGML v1.0//EN
BEGIN:VEVENT
SUMMARY:Entrainement samedi Ecole de Formation et Ski+
UID:8aef4a55-e360-408c-b381-e609d6537535
DTSTART:20260227T230000Z
DTEND:20260228T230000Z
LOCATION:Localisation Prapoutel  
CATEGORIES:Sportif
STATUS:
URL;VALUE=URI:https://www.co7laux-alpin.com/evenements/2026/02/28/entrainement-samedi-ecole-de-formation-et-ski-2365664
END:VEVENT
END:VCALENDAR
